BEGIN:VCALENDAR
VERSION:2.0
CALSCALE:GREGORIAN
PRODID:-//Diputació de Barcelona//DibaCMS//EN
BEGIN:VEVENT
UID:8291
DTSTAMP:20260419T225535
DTSTART:20191210T170000
DTEND:20191210T180000
SUMMARY:Taller de memòria per la gent gran
LOCATION:
METHOD:PUBLISH
X-WR-CALNAME:vallgorguina@vallgorguina.cat
X-WR-TIMEZONE:Europe/Madrid
DESCRIPTION:
URI:https://www.vallgorguina.cat/actualitat/agenda/taller-de-memoria-per-la-gent-gran.html
CLASS:PUBLIC
END:VEVENT
END:VCALENDAR
