BEGIN:VCALENDAR
VERSION:2.0
CALSCALE:GREGORIAN
PRODID:-//Diputació de Barcelona//DibaCMS//EN
BEGIN:VEVENT
UID:8296
DTSTAMP:20260419T230144
DTSTART:20191220T100000
DTEND:20191220T130000
SUMMARY:Sorteig Panera Solidària
LOCATION:
METHOD:PUBLISH
X-WR-CALNAME:vallgorguina@vallgorguina.cat
X-WR-TIMEZONE:Europe/Madrid
DESCRIPTION:Sorteig de la panera Solidària a favor de la Mataró, AMPA de l'escola

URI:https://www.vallgorguina.cat/actualitat/agenda/sorteig-panera-solidaria.html
CLASS:PUBLIC
END:VEVENT
END:VCALENDAR
