BEGIN:VCALENDAR
VERSION:2.0
CALSCALE:GREGORIAN
PRODID:-//Diputació de Barcelona//DibaCMS//EN
BEGIN:VEVENT
UID:8297
DTSTAMP:20260419T205344
DTSTART:20191231T210000
DTEND:20200101T030000
SUMMARY:Festa de cap d'any
LOCATION:
METHOD:PUBLISH
X-WR-CALNAME:vallgorguina@vallgorguina.cat
X-WR-TIMEZONE:Europe/Madrid
DESCRIPTION:Fetillera i Fent Pinya muntem festa de cap d'any a la fàbrica.  Hi haurà sopar de "carmanyola" (cadascú es porta el seu sopar) a partir de les 21h. I a partir de les 00.30h hi haurà música amb : Albert Caipirinha,  dj JM Bosch i dj Marc Dellà. 

Hi haurà servei de barra també. 

No cal inscripció prèvia, hi haurà taules i cadires suficients.

URI:https://www.vallgorguina.cat/actualitat/agenda/8297-festa-de-cap-dany.html
CLASS:PUBLIC
END:VEVENT
END:VCALENDAR
