BEGIN:VCALENDAR
VERSION:2.0
CALSCALE:GREGORIAN
PRODID:-//Diputació de Barcelona//DibaCMS//EN
BEGIN:VEVENT
UID:8298
DTSTAMP:20260420T010720
DTSTART:20191201T100000
DTEND:20191201T160000
SUMMARY:Fira de Nadal
LOCATION:
METHOD:PUBLISH
X-WR-CALNAME:vallgorguina@vallgorguina.cat
X-WR-TIMEZONE:Europe/Madrid
DESCRIPTION:Contes,paradetes,tallers,manualitats,cantadade nadales, paella,conferències,un bon foc i molt caliu!!

URI:https://www.vallgorguina.cat/actualitat/agenda/fira-de-nadal.html
CLASS:PUBLIC
END:VEVENT
END:VCALENDAR
