BEGIN:VCALENDAR
VERSION:2.0
CALSCALE:GREGORIAN
PRODID:-//Diputació de Barcelona//DibaCMS//EN
BEGIN:VEVENT
UID:8299
DTSTAMP:20260419T225930
DTSTART:20191224T180000
DTEND:20191224T190000
SUMMARY:Missa del Gall
LOCATION:
METHOD:PUBLISH
X-WR-CALNAME:vallgorguina@vallgorguina.cat
X-WR-TIMEZONE:Europe/Madrid
DESCRIPTION:
URI:https://www.vallgorguina.cat/actualitat/agenda/8299-missa-del-gall.html
CLASS:PUBLIC
END:VEVENT
END:VCALENDAR
