BEGIN:VCALENDAR
VERSION:2.0
CALSCALE:GREGORIAN
PRODID:-//Diputació de Barcelona//DibaCMS//EN
BEGIN:VEVENT
UID:8300
DTSTAMP:20260419T230512
DTSTART:20191225T103000
DTEND:20191225T120000
SUMMARY:Missa de Nadal
LOCATION:
METHOD:PUBLISH
X-WR-CALNAME:vallgorguina@vallgorguina.cat
X-WR-TIMEZONE:Europe/Madrid
DESCRIPTION:
URI:https://www.vallgorguina.cat/actualitat/agenda/missa-de-nadal.html
CLASS:PUBLIC
END:VEVENT
END:VCALENDAR
