BEGIN:VCALENDAR
VERSION:2.0
CALSCALE:GREGORIAN
PRODID:-//Diputació de Barcelona//DibaCMS//EN
BEGIN:VEVENT
UID:8301
DTSTAMP:20260419T225632
DTSTART:20191226T103000
DTEND:20191226T120000
SUMMARY:Missa de Sant Esteve
LOCATION:
METHOD:PUBLISH
X-WR-CALNAME:vallgorguina@vallgorguina.cat
X-WR-TIMEZONE:Europe/Madrid
DESCRIPTION:
URI:https://www.vallgorguina.cat/actualitat/agenda/missa-de-sant-esteve.html
CLASS:PUBLIC
END:VEVENT
END:VCALENDAR
