BEGIN:VCALENDAR
VERSION:2.0
CALSCALE:GREGORIAN
PRODID:-//Diputació de Barcelona//DibaCMS//EN
BEGIN:VEVENT
UID:8302
DTSTAMP:20260419T165221
DTSTART:20200101T103000
DTEND:20200101T120000
SUMMARY:Missa d'any Nou
LOCATION:
METHOD:PUBLISH
X-WR-CALNAME:vallgorguina@vallgorguina.cat
X-WR-TIMEZONE:Europe/Madrid
DESCRIPTION:
URI:https://www.vallgorguina.cat/actualitat/agenda/missa-dany-nou.html
CLASS:PUBLIC
END:VEVENT
END:VCALENDAR
