BEGIN:VCALENDAR
VERSION:2.0
CALSCALE:GREGORIAN
PRODID:-//Diputació de Barcelona//DibaCMS//EN
BEGIN:VEVENT
UID:8303
DTSTAMP:20260419T185843
DTSTART:20200106T103000
DTEND:20200106T113000
SUMMARY:Missa de Reis
LOCATION:
METHOD:PUBLISH
X-WR-CALNAME:vallgorguina@vallgorguina.cat
X-WR-TIMEZONE:Europe/Madrid
DESCRIPTION:
URI:https://www.vallgorguina.cat/actualitat/agenda/missa-de-reis.html
CLASS:PUBLIC
END:VEVENT
END:VCALENDAR
