BEGIN:VCALENDAR
VERSION:2.0
CALSCALE:GREGORIAN
PRODID:-//Diputació de Barcelona//DibaCMS//EN
BEGIN:VEVENT
UID:8310
DTSTAMP:20260419T205113
DTSTART:20191205T170000
DTEND:20191205T180000
SUMMARY:El Conte de "Els Bons Amics"
LOCATION:
METHOD:PUBLISH
X-WR-CALNAME:vallgorguina@vallgorguina.cat
X-WR-TIMEZONE:Europe/Madrid
DESCRIPTION:Teatre i narració per infants de 2 a 7 anys a l'escola Waldorf Vallgorguina

URI:https://www.vallgorguina.cat/actualitat/agenda/el-conte-de-els-bons-amics.html
CLASS:PUBLIC
END:VEVENT
END:VCALENDAR
