BEGIN:VCALENDAR
VERSION:2.0
CALSCALE:GREGORIAN
PRODID:-//Diputació de Barcelona//DibaCMS//EN
BEGIN:VEVENT
UID:8316
DTSTAMP:20260419T211407
DTSTART:20191217T183000
DTEND:20191217T200000
SUMMARY:Xerrada-Taller "Són Sexistes els jocs i les joguines ?"
LOCATION:
METHOD:PUBLISH
X-WR-CALNAME:vallgorguina@vallgorguina.cat
X-WR-TIMEZONE:Europe/Madrid
DESCRIPTION:Què aprenen els nostres infants mentre juguen?

A càrrec d'Anna Rodríguez i Verònica Guix , us esperem a la sala d'exposicions

 

 

 

URI:https://www.vallgorguina.cat/actualitat/agenda/xerrada-taller-son-sexistes-els-jocs-i-les-joguines-.html
CLASS:PUBLIC
END:VEVENT
END:VCALENDAR
