BEGIN:VCALENDAR
VERSION:2.0
CALSCALE:GREGORIAN
PRODID:-//Diputació de Barcelona//DibaCMS//EN
BEGIN:VEVENT
UID:832
DTSTAMP:20260423T104144
DTSTART:20180329T133000
DTEND:20180329T150000
SUMMARY:Inauguració de l'escola de tecnificació -futbol base
LOCATION:
METHOD:PUBLISH
X-WR-CALNAME:vallgorguina@vallgorguina.cat
X-WR-TIMEZONE:Europe/Madrid
DESCRIPTION:
URI:https://www.vallgorguina.cat/actualitat/agenda/inauguracio-de-lescola-de-tecnificacio-futbol-base.html
CLASS:PUBLIC
END:VEVENT
END:VCALENDAR
