BEGIN:VCALENDAR
VERSION:2.0
CALSCALE:GREGORIAN
PRODID:-//Diputació de Barcelona//DibaCMS//EN
BEGIN:VEVENT
UID:8320
DTSTAMP:20260419T210252
DTSTART:20191215T180000
DTEND:20191215T200000
SUMMARY:Cinema 
LOCATION:
METHOD:PUBLISH
X-WR-CALNAME:vallgorguina@vallgorguina.cat
X-WR-TIMEZONE:Europe/Madrid
DESCRIPTION:Cinema a la sala d'exposicions 

Bohemian Rhapsody

URI:https://www.vallgorguina.cat/actualitat/agenda/8320-cinema-.html
CLASS:PUBLIC
END:VEVENT
END:VCALENDAR
