BEGIN:VCALENDAR
VERSION:2.0
CALSCALE:GREGORIAN
PRODID:-//Diputació de Barcelona//DibaCMS//EN
BEGIN:VEVENT
UID:8322
DTSTAMP:20260419T205205
DTSTART:20191214T133000
DTEND:20191214T160000
SUMMARY:Presentació FC Vallgorguina
LOCATION:
METHOD:PUBLISH
X-WR-CALNAME:vallgorguina@vallgorguina.cat
X-WR-TIMEZONE:Europe/Madrid
DESCRIPTION:Camp Municipal d'Esport

URI:https://www.vallgorguina.cat/actualitat/agenda/presentacio-fc-vallgorguina.html
CLASS:PUBLIC
END:VEVENT
END:VCALENDAR
