BEGIN:VCALENDAR
VERSION:2.0
CALSCALE:GREGORIAN
PRODID:-//Diputació de Barcelona//DibaCMS//EN
BEGIN:VEVENT
UID:8323
DTSTAMP:20260419T225352
DTSTART:20191222T110000
DTEND:20191222T130000
SUMMARY:Tallers creatius
LOCATION:
METHOD:PUBLISH
X-WR-CALNAME:vallgorguina@vallgorguina.cat
X-WR-TIMEZONE:Europe/Madrid
DESCRIPTION:Taller Gratuït al Mercat de Nadal , farem " Estels de Nadal"

URI:https://www.vallgorguina.cat/actualitat/agenda/8323-tallers-creatius.html
CLASS:PUBLIC
END:VEVENT
END:VCALENDAR
