BEGIN:VCALENDAR
VERSION:2.0
CALSCALE:GREGORIAN
PRODID:-//Diputació de Barcelona//DibaCMS//EN
BEGIN:VEVENT
UID:8324
DTSTAMP:20260419T170240
DTSTART:20191229T120000
DTEND:20191229T130000
SUMMARY:Carter dels Reis Mags
LOCATION:
METHOD:PUBLISH
X-WR-CALNAME:vallgorguina@vallgorguina.cat
X-WR-TIMEZONE:Europe/Madrid
DESCRIPTION:Vine a donar la teva carta al Carter dels Reis Mags d'Orient a la Sala d'Exposicions

URI:https://www.vallgorguina.cat/actualitat/agenda/carter-dels-reis-mags.html
CLASS:PUBLIC
END:VEVENT
END:VCALENDAR
