BEGIN:VCALENDAR
VERSION:2.0
CALSCALE:GREGORIAN
PRODID:-//Diputació de Barcelona//DibaCMS//EN
BEGIN:VEVENT
UID:8326
DTSTAMP:20260419T135038
DTSTART:20191228T190000
DTEND:20191228T210000
SUMMARY: Concert de Nadal per l'Orquestra Baix Montseny
LOCATION:
METHOD:PUBLISH
X-WR-CALNAME:vallgorguina@vallgorguina.cat
X-WR-TIMEZONE:Europe/Madrid
DESCRIPTION:Jazz basat en el grup americà Snarky Puppy.

A l'església Sant Andreu

URI:https://www.vallgorguina.cat/actualitat/agenda/-concert-de-nadal-per-lorquestra-baix-montseny.html
CLASS:PUBLIC
END:VEVENT
END:VCALENDAR
