BEGIN:VCALENDAR
VERSION:2.0
CALSCALE:GREGORIAN
PRODID:-//Diputació de Barcelona//DibaCMS//EN
BEGIN:VEVENT
UID:8328
DTSTAMP:20260419T172122
DTSTART:20200321T190000
DTEND:20200321T210000
SUMMARY:Futbol Americà a Vallgorguina (Anul·lat)
LOCATION:
METHOD:PUBLISH
X-WR-CALNAME:vallgorguina@vallgorguina.cat
X-WR-TIMEZONE:Europe/Madrid
DESCRIPTION:
URI:https://www.vallgorguina.cat/actualitat/agenda/futbol-america-a-vallgorguina-anullat.html
CLASS:PUBLIC
END:VEVENT
END:VCALENDAR
