BEGIN:VCALENDAR
VERSION:2.0
CALSCALE:GREGORIAN
PRODID:-//Diputació de Barcelona//DibaCMS//EN
BEGIN:VEVENT
UID:8329
DTSTAMP:20260420T010645
DTSTART:20200404T190000
DTEND:20200404T210000
SUMMARY:Futbol Americà a Vallgorguina (Anul·lat)
LOCATION:
METHOD:PUBLISH
X-WR-CALNAME:vallgorguina@vallgorguina.cat
X-WR-TIMEZONE:Europe/Madrid
DESCRIPTION:
URI:https://www.vallgorguina.cat/actualitat/agenda/8329-futbol-america-a-vallgorguina-anullat.html
CLASS:PUBLIC
END:VEVENT
END:VCALENDAR
