BEGIN:VCALENDAR
VERSION:2.0
CALSCALE:GREGORIAN
PRODID:-//Diputació de Barcelona//DibaCMS//EN
BEGIN:VEVENT
UID:833
DTSTAMP:20260423T061814
DTSTART:20180328T190000
DTEND:20180328T210000
SUMMARY:Ple ordinari
LOCATION:
METHOD:PUBLISH
X-WR-CALNAME:vallgorguina@vallgorguina.cat
X-WR-TIMEZONE:Europe/Madrid
DESCRIPTION:
URI:https://www.vallgorguina.cat/actualitat/agenda/833-ple-ordinari.html
CLASS:PUBLIC
END:VEVENT
END:VCALENDAR
