BEGIN:VCALENDAR
VERSION:2.0
CALSCALE:GREGORIAN
PRODID:-//Diputació de Barcelona//DibaCMS//EN
BEGIN:VEVENT
UID:8331
DTSTAMP:20260419T210202
DTSTART:20191220T180000
DTEND:20191220T200000
SUMMARY:Ple Ordinari
LOCATION:
METHOD:PUBLISH
X-WR-CALNAME:vallgorguina@vallgorguina.cat
X-WR-TIMEZONE:Europe/Madrid
DESCRIPTION:
URI:https://www.vallgorguina.cat/actualitat/agenda/8331-ple-ordinari.html
CLASS:PUBLIC
END:VEVENT
END:VCALENDAR
