BEGIN:VCALENDAR
VERSION:2.0
CALSCALE:GREGORIAN
PRODID:-//Diputació de Barcelona//DibaCMS//EN
BEGIN:VEVENT
UID:8333
DTSTAMP:20260419T172023
DTSTART:20191229T110000
DTEND:20191229T120000
SUMMARY:Taller de Fanalets i Visita del Patge Reial a Baronia del Montseny
LOCATION:
METHOD:PUBLISH
X-WR-CALNAME:vallgorguina@vallgorguina.cat
X-WR-TIMEZONE:Europe/Madrid
DESCRIPTION:
URI:https://www.vallgorguina.cat/actualitat/agenda/taller-de-fanalets-i-visita-del-patge-reial-a-baronia-del-montseny.html
CLASS:PUBLIC
END:VEVENT
END:VCALENDAR
