BEGIN:VCALENDAR
VERSION:2.0
CALSCALE:GREGORIAN
PRODID:-//Diputació de Barcelona//DibaCMS//EN
BEGIN:VEVENT
UID:8336
DTSTAMP:20260419T165817
DTSTART:20200106T090000
DTEND:20200106T230000
SUMMARY:Raconet
LOCATION:
METHOD:PUBLISH
X-WR-CALNAME:vallgorguina@vallgorguina.cat
X-WR-TIMEZONE:Europe/Madrid
DESCRIPTION:
URI:https://www.vallgorguina.cat/actualitat/agenda/8336-raconet.html
CLASS:PUBLIC
END:VEVENT
END:VCALENDAR
