BEGIN:VCALENDAR
VERSION:2.0
CALSCALE:GREGORIAN
PRODID:-//Diputació de Barcelona//DibaCMS//EN
BEGIN:VEVENT
UID:8341
DTSTAMP:20260419T170018
DTSTART:20200111T170000
DTEND:20200111T190000
SUMMARY:Espai Jove
LOCATION:
METHOD:PUBLISH
X-WR-CALNAME:vallgorguina@vallgorguina.cat
X-WR-TIMEZONE:Europe/Madrid
DESCRIPTION:Fem Un Mural Col·lectiu

URI:https://www.vallgorguina.cat/actualitat/agenda/8341-espai-jove.html
CLASS:PUBLIC
END:VEVENT
END:VCALENDAR
