BEGIN:VCALENDAR
VERSION:2.0
CALSCALE:GREGORIAN
PRODID:-//Diputació de Barcelona//DibaCMS//EN
BEGIN:VEVENT
UID:8346
DTSTAMP:20260420T051738
DTSTART:20200523T100000
DTEND:20200523T150000
SUMMARY:Sortida de reconeixement herbes aromàtiques a Canadà Parc  (Anul·lat)
LOCATION:
METHOD:PUBLISH
X-WR-CALNAME:vallgorguina@vallgorguina.cat
X-WR-TIMEZONE:Europe/Madrid
DESCRIPTION:
URI:https://www.vallgorguina.cat/actualitat/agenda/sortida-de-reconeixement-herbes-aromatiques-a-canada-parc-anullat.html
CLASS:PUBLIC
END:VEVENT
END:VCALENDAR
