BEGIN:VCALENDAR
VERSION:2.0
CALSCALE:GREGORIAN
PRODID:-//Diputació de Barcelona//DibaCMS//EN
BEGIN:VEVENT
UID:8358
DTSTAMP:20260419T151813
DTSTART:20200215T090000
DTEND:20200215T210000
SUMMARY:Taller de menjadores per ocells
LOCATION:
METHOD:PUBLISH
X-WR-CALNAME:vallgorguina@vallgorguina.cat
X-WR-TIMEZONE:Europe/Madrid
DESCRIPTION:Taller de menjadores i Caixes niu per ocells

Places limitades, cal fer la reserva previa

info@turismevallgorguina.com

URI:https://www.vallgorguina.cat/actualitat/agenda/taller-de-menjadores-per-ocells.html
CLASS:PUBLIC
END:VEVENT
END:VCALENDAR
