BEGIN:VCALENDAR
VERSION:2.0
CALSCALE:GREGORIAN
PRODID:-//Diputació de Barcelona//DibaCMS//EN
BEGIN:VEVENT
UID:8359
DTSTAMP:20260419T165957
DTSTART:20200222T170000
DTEND:20200222T210000
SUMMARY:Carnestoltes 2020
LOCATION:
METHOD:PUBLISH
X-WR-CALNAME:vallgorguina@vallgorguina.cat
X-WR-TIMEZONE:Europe/Madrid
DESCRIPTION:a la plaça de la Vila

URI:https://www.vallgorguina.cat/actualitat/agenda/carnestoltes-2020.html
CLASS:PUBLIC
END:VEVENT
END:VCALENDAR
