BEGIN:VCALENDAR
VERSION:2.0
CALSCALE:GREGORIAN
PRODID:-//Diputació de Barcelona//DibaCMS//EN
BEGIN:VEVENT
UID:8360
DTSTAMP:20260419T170310
DTSTART:20200223T093000
DTEND:20200223T130000
SUMMARY: Els Tres Tombs
LOCATION:
METHOD:PUBLISH
X-WR-CALNAME:vallgorguina@vallgorguina.cat
X-WR-TIMEZONE:Europe/Madrid
DESCRIPTION:
URI:https://www.vallgorguina.cat/actualitat/agenda/-els-tres-tombs.html
CLASS:PUBLIC
END:VEVENT
END:VCALENDAR
