BEGIN:VCALENDAR
VERSION:2.0
CALSCALE:GREGORIAN
PRODID:-//Diputació de Barcelona//DibaCMS//EN
BEGIN:VEVENT
UID:8374
DTSTAMP:20260419T165859
DTSTART:20200121T000000
DTEND:20200121T235900
SUMMARY:Raconet
LOCATION:
METHOD:PUBLISH
X-WR-CALNAME:vallgorguina@vallgorguina.cat
X-WR-TIMEZONE:Europe/Madrid
DESCRIPTION:Recollida de Voluminosos

URI:https://www.vallgorguina.cat/actualitat/agenda/8374-raconet.html
CLASS:PUBLIC
END:VEVENT
END:VCALENDAR
