BEGIN:VCALENDAR
VERSION:2.0
CALSCALE:GREGORIAN
PRODID:-//Diputació de Barcelona//DibaCMS//EN
BEGIN:VEVENT
UID:8397
DTSTAMP:20260419T151824
DTSTART:20200229T170000
DTEND:20200229T190000
SUMMARY:Espai Jove
LOCATION:
METHOD:PUBLISH
X-WR-CALNAME:vallgorguina@vallgorguina.cat
X-WR-TIMEZONE:Europe/Madrid
DESCRIPTION:Esports tradicionals i alternatius

URI:https://www.vallgorguina.cat/actualitat/agenda/8397-espai-jove.html
CLASS:PUBLIC
END:VEVENT
END:VCALENDAR
