BEGIN:VCALENDAR
VERSION:2.0
CALSCALE:GREGORIAN
PRODID:-//Diputació de Barcelona//DibaCMS//EN
BEGIN:VEVENT
UID:8403
DTSTAMP:20260419T231240
DTSTART:20200326T183000
DTEND:20200326T200000
SUMMARY:Cicles de Conferències a l'escola Waldorf de Vallgorguina 
LOCATION:
METHOD:PUBLISH
X-WR-CALNAME:vallgorguina@vallgorguina.cat
X-WR-TIMEZONE:Europe/Madrid
DESCRIPTION:Rabietes i límits.Difícil de gestionar?

URI:https://www.vallgorguina.cat/actualitat/agenda/cicles-de-conferencies-a-lescola-waldorf-de-vallgorguina-.html
CLASS:PUBLIC
END:VEVENT
END:VCALENDAR
