BEGIN:VCALENDAR
VERSION:2.0
CALSCALE:GREGORIAN
PRODID:-//Diputació de Barcelona//DibaCMS//EN
BEGIN:VEVENT
UID:8404
DTSTAMP:20260422T113524
DTSTART:20200416T183000
DTEND:20200416T200000
SUMMARY:Cicles de Conferències de l'Escola Waldorf de Vallgorguina (Anul·lat)
LOCATION:
METHOD:PUBLISH
X-WR-CALNAME:vallgorguina@vallgorguina.cat
X-WR-TIMEZONE:Europe/Madrid
DESCRIPTION:Presentació i conferència del llibre:

"La llibertat ínteriror"

URI:https://www.vallgorguina.cat/actualitat/agenda/cicles-de-conferencies-de-lescola-waldorf-de-vallgorguina-anullat.html
CLASS:PUBLIC
END:VEVENT
END:VCALENDAR
