BEGIN:VCALENDAR
VERSION:2.0
CALSCALE:GREGORIAN
PRODID:-//Diputació de Barcelona//DibaCMS//EN
BEGIN:VEVENT
UID:8405
DTSTAMP:20260420T033028
DTSTART:20200521T183000
DTEND:20200521T200000
SUMMARY:Cicles de Conferències de l'Escola Waldorf de Vallgorguina  (Anul·lat)
LOCATION:
METHOD:PUBLISH
X-WR-CALNAME:vallgorguina@vallgorguina.cat
X-WR-TIMEZONE:Europe/Madrid
DESCRIPTION:Sin educación emocional de nada sirve resolver ecuaciones

URI:https://www.vallgorguina.cat/actualitat/agenda/8405-cicles-de-conferencies-de-lescola-waldorf-de-vallgorguina-anullat.html
CLASS:PUBLIC
END:VEVENT
END:VCALENDAR
