BEGIN:VCALENDAR
VERSION:2.0
CALSCALE:GREGORIAN
PRODID:-//Diputació de Barcelona//DibaCMS//EN
BEGIN:VEVENT
UID:8413
DTSTAMP:20260419T151652
DTSTART:20200214T163000
DTEND:20200214T173000
SUMMARY:3º Xocolatada Solidària
LOCATION:
METHOD:PUBLISH
X-WR-CALNAME:vallgorguina@vallgorguina.cat
X-WR-TIMEZONE:Europe/Madrid
DESCRIPTION:Davant l'Escola Bressol

URI:https://www.vallgorguina.cat/actualitat/agenda/3o-xocolatada-solidaria.html
CLASS:PUBLIC
END:VEVENT
END:VCALENDAR
