BEGIN:VCALENDAR
VERSION:2.0
CALSCALE:GREGORIAN
PRODID:-//Diputació de Barcelona//DibaCMS//EN
BEGIN:VEVENT
UID:8414
DTSTAMP:20260419T151506
DTSTART:20200308T090000
DTEND:20200308T140000
SUMMARY:Neteja  de la Riera de Vallgorguina
LOCATION:
METHOD:PUBLISH
X-WR-CALNAME:vallgorguina@vallgorguina.cat
X-WR-TIMEZONE:Europe/Madrid
DESCRIPTION:Degut als pronòstics meteorlògics emesos, avançarem el dia previst per a la neteja de la Riera de Vallgorguina.

 Ens trobarem el proper diumenge 9 de març a les 9:00 del matí davant de la depuradora del Pla del Forn.

Us animem a totes i a tots!

 

Us animem a apuntar-vos a l’Ajuntament (presencialment o telefònicament al 938679125) i així, entre tots, retornar, ni que sigui mínimament, a la natura tot allò que ella diàriament ens ofereix.

URI:https://www.vallgorguina.cat/actualitat/agenda/neteja-de-la-riera-de-vallgorguina.html
CLASS:PUBLIC
END:VEVENT
END:VCALENDAR
