BEGIN:VCALENDAR
VERSION:2.0
CALSCALE:GREGORIAN
PRODID:-//Diputació de Barcelona//DibaCMS//EN
BEGIN:VEVENT
UID:8429
DTSTAMP:20260419T172004
DTSTART:20200321T103000
DTEND:20200321T150000
SUMMARY:Sortida de Espai Jove
LOCATION:
METHOD:PUBLISH
X-WR-CALNAME:vallgorguina@vallgorguina.cat
X-WR-TIMEZONE:Europe/Madrid
DESCRIPTION:Montseny Aventura  (Anul·lat)

Combinació d'activitats d'esport i aventura.

URI:https://www.vallgorguina.cat/actualitat/agenda/sortida-de-espai-jove.html
CLASS:PUBLIC
END:VEVENT
END:VCALENDAR
