BEGIN:VCALENDAR
VERSION:2.0
CALSCALE:GREGORIAN
PRODID:-//Diputació de Barcelona//DibaCMS//EN
BEGIN:VEVENT
UID:843
DTSTAMP:20260423T101150
DTSTART:20180421T163000
DTEND:20180421T180000
SUMMARY:Sant Jordi a La Baronia del Montseny
LOCATION:
METHOD:PUBLISH
X-WR-CALNAME:vallgorguina@vallgorguina.cat
X-WR-TIMEZONE:Europe/Madrid
DESCRIPTION:
URI:https://www.vallgorguina.cat/actualitat/agenda/sant-jordi-a-la-baronia-del-montseny.html
CLASS:PUBLIC
END:VEVENT
END:VCALENDAR
