BEGIN:VCALENDAR
VERSION:2.0
CALSCALE:GREGORIAN
PRODID:-//Diputació de Barcelona//DibaCMS//EN
BEGIN:VEVENT
UID:8434
DTSTAMP:20260419T151639
DTSTART:20200225T000000
DTEND:20200225T000000
SUMMARY:I Edición Montseny Cup
LOCATION:
METHOD:PUBLISH
X-WR-CALNAME:vallgorguina@vallgorguina.cat
X-WR-TIMEZONE:Europe/Madrid
DESCRIPTION:Inscripcions :

vallsaevents@gmail.com

675870945

URI:https://www.vallgorguina.cat/actualitat/agenda/i-edicion-montseny-cup.html
CLASS:PUBLIC
END:VEVENT
END:VCALENDAR
