BEGIN:VCALENDAR
VERSION:2.0
CALSCALE:GREGORIAN
PRODID:-//Diputació de Barcelona//DibaCMS//EN
BEGIN:VEVENT
UID:8439
DTSTAMP:20260419T170509
DTSTART:20200307T170000
DTEND:20200307T190000
SUMMARY:Espai Jove
LOCATION:
METHOD:PUBLISH
X-WR-CALNAME:vallgorguina@vallgorguina.cat
X-WR-TIMEZONE:Europe/Madrid
DESCRIPTION:Taller decoració creativa

de l'Espai Jove més berenar

Per a joves 11 a 16 anys

URI:https://www.vallgorguina.cat/actualitat/agenda/8439-espai-jove.html
CLASS:PUBLIC
END:VEVENT
END:VCALENDAR
