BEGIN:VCALENDAR
VERSION:2.0
CALSCALE:GREGORIAN
PRODID:-//Diputació de Barcelona//DibaCMS//EN
BEGIN:VEVENT
UID:844
DTSTAMP:20260423T083353
DTSTART:20180411T113000
DTEND:20180411T121500
SUMMARY:Oficina mòbil d'informació al consumidor
LOCATION:
METHOD:PUBLISH
X-WR-CALNAME:vallgorguina@vallgorguina.cat
X-WR-TIMEZONE:Europe/Madrid
DESCRIPTION:A la plaça de la Vila

URI:https://www.vallgorguina.cat/actualitat/agenda/844-oficina-mobil-dinformacio-al-consumidor.html
CLASS:PUBLIC
END:VEVENT
END:VCALENDAR
