BEGIN:VCALENDAR
VERSION:2.0
CALSCALE:GREGORIAN
PRODID:-//Diputació de Barcelona//DibaCMS//EN
BEGIN:VEVENT
UID:8441
DTSTAMP:20260419T165633
DTSTART:20200314T170000
DTEND:20200314T190000
SUMMARY:Espai Jove
LOCATION:
METHOD:PUBLISH
X-WR-CALNAME:vallgorguina@vallgorguina.cat
X-WR-TIMEZONE:Europe/Madrid
DESCRIPTION:Per a joves 11 a 16 anys

Tècniques de natura-Taller nusos pràctics més berenar compartit

URI:https://www.vallgorguina.cat/actualitat/agenda/8441-espai-jove.html
CLASS:PUBLIC
END:VEVENT
END:VCALENDAR
