BEGIN:VCALENDAR
VERSION:2.0
CALSCALE:GREGORIAN
PRODID:-//Diputació de Barcelona//DibaCMS//EN
BEGIN:VEVENT
UID:845
DTSTAMP:20260423T115835
DTSTART:20180419T183000
DTEND:20180419T200000
SUMMARY:Reunió informativa Casal d'estiu
LOCATION:
METHOD:PUBLISH
X-WR-CALNAME:vallgorguina@vallgorguina.cat
X-WR-TIMEZONE:Europe/Madrid
DESCRIPTION:
URI:https://www.vallgorguina.cat/actualitat/agenda/reunio-informativa-casal-destiu.html
CLASS:PUBLIC
END:VEVENT
END:VCALENDAR
