BEGIN:VCALENDAR
VERSION:2.0
CALSCALE:GREGORIAN
PRODID:-//Diputació de Barcelona//DibaCMS//EN
BEGIN:VEVENT
UID:8452
DTSTAMP:20260419T151621
DTSTART:20200304T150000
DTEND:20200304T170000
SUMMARY:Escola Vallgorguina
LOCATION:
METHOD:PUBLISH
X-WR-CALNAME:vallgorguina@vallgorguina.cat
X-WR-TIMEZONE:Europe/Madrid
DESCRIPTION:Portes Obertes

URI:https://www.vallgorguina.cat/actualitat/agenda/8452-escola-vallgorguina.html
CLASS:PUBLIC
END:VEVENT
END:VCALENDAR
