BEGIN:VCALENDAR
VERSION:2.0
CALSCALE:GREGORIAN
PRODID:-//Diputació de Barcelona//DibaCMS//EN
BEGIN:VEVENT
UID:8453
DTSTAMP:20260419T211307
DTSTART:20200430T100000
DTEND:20200430T163000
SUMMARY:Portes Obertes Escola Bressol L'Avet Blau   (Anul·lat)
LOCATION:
METHOD:PUBLISH
X-WR-CALNAME:vallgorguina@vallgorguina.cat
X-WR-TIMEZONE:Europe/Madrid
DESCRIPTION:Portes Obertes de 10.00h a 11.30 i de 15.30h a 16.30h

URI:https://www.vallgorguina.cat/actualitat/agenda/portes-obertes-escola-bressol-lavet-blau-anullat.html
CLASS:PUBLIC
END:VEVENT
END:VCALENDAR
