BEGIN:VCALENDAR
VERSION:2.0
CALSCALE:GREGORIAN
PRODID:-//Diputació de Barcelona//DibaCMS//EN
BEGIN:VEVENT
UID:8454
DTSTAMP:20260420T005527
DTSTART:20200314T160000
DTEND:20200314T180000
SUMMARY:La Vespa Asiàtica
LOCATION:
METHOD:PUBLISH
X-WR-CALNAME:vallgorguina@vallgorguina.cat
X-WR-TIMEZONE:Europe/Madrid
DESCRIPTION:Xerrades Informatives

Al Local social de la Baronia del Montseny

A Càrrec de : Antoni Armengol 

URI:https://www.vallgorguina.cat/actualitat/agenda/8454-la-vespa-asiatica.html
CLASS:PUBLIC
END:VEVENT
END:VCALENDAR
