BEGIN:VCALENDAR
VERSION:2.0
CALSCALE:GREGORIAN
PRODID:-//Diputació de Barcelona//DibaCMS//EN
BEGIN:VEVENT
UID:8455
DTSTAMP:20260419T171825
DTSTART:20200321T160000
DTEND:20200321T180000
SUMMARY:La Vespa Asiàtica (Anul·lat)
LOCATION:
METHOD:PUBLISH
X-WR-CALNAME:vallgorguina@vallgorguina.cat
X-WR-TIMEZONE:Europe/Madrid
DESCRIPTION:Xerrada Informativa

al Museu del Bosc i la Pagesia 

A Càrrec de Antoni Armengol

 

URI:https://www.vallgorguina.cat/actualitat/agenda/la-vespa-asiatica-anullat.html
CLASS:PUBLIC
END:VEVENT
END:VCALENDAR
