BEGIN:VCALENDAR
VERSION:2.0
CALSCALE:GREGORIAN
PRODID:-//Diputació de Barcelona//DibaCMS//EN
BEGIN:VEVENT
UID:8465
DTSTAMP:20260419T153548
DTSTART:20200313T190000
DTEND:20200313T210000
SUMMARY:Presentació del llibre "Rossi" de la Vallgorguinenca Assumpta Margenat.
LOCATION:
METHOD:PUBLISH
X-WR-CALNAME:vallgorguina@vallgorguina.cat
X-WR-TIMEZONE:Europe/Madrid
DESCRIPTION:a la Biblioteca l'Escorxador de Sant Celoni

URI:https://www.vallgorguina.cat/actualitat/agenda/presentacio-del-llibre-rossi-de-la-vallgorguinenca-assumpta-margenat.html
CLASS:PUBLIC
END:VEVENT
END:VCALENDAR
