BEGIN:VCALENDAR
VERSION:2.0
CALSCALE:GREGORIAN
PRODID:-//Diputació de Barcelona//DibaCMS//EN
BEGIN:VEVENT
UID:8494
DTSTAMP:20260419T231730
DTSTART:20200517T050000
DTEND:20200517T160000
SUMMARY:Ironman 70.3 (Anul·lat)
LOCATION:
METHOD:PUBLISH
X-WR-CALNAME:vallgorguina@vallgorguina.cat
X-WR-TIMEZONE:Europe/Madrid
DESCRIPTION:Finalment em traslladat la data del IRONMAN 70.3 Barcelona pel COVID-19

El IRONMAN 70.3 Barcelona estarà en recorreguts, timing i muntatge dintre del IRONMAN de Barcelona, per tant el 4 d’octubre.

Això fa que posposem la competició IRONMAN 70.3 Barcelona al 2021 en el recorregut Calella-Montseny-Calella

URI:https://www.vallgorguina.cat/actualitat/agenda/ironman-703-anullat.html
CLASS:PUBLIC
END:VEVENT
END:VCALENDAR
