BEGIN:VCALENDAR
VERSION:2.0
CALSCALE:GREGORIAN
PRODID:-//Diputació de Barcelona//DibaCMS//EN
BEGIN:VEVENT
UID:852
DTSTAMP:20260423T133424
DTSTART:20180428T170000
DTEND:20180428T200000
SUMMARY:Sortida al rocòdrom d'Arenys
LOCATION:
METHOD:PUBLISH
X-WR-CALNAME:vallgorguina@vallgorguina.cat
X-WR-TIMEZONE:Europe/Madrid
DESCRIPTION:El preu que té establerta l'empresa d'Arenys és de 15€ per persona (entrada i material)

URI:https://www.vallgorguina.cat/actualitat/agenda/sortida-al-rocodrom-darenys.html
CLASS:PUBLIC
END:VEVENT
END:VCALENDAR
