BEGIN:VCALENDAR
VERSION:2.0
CALSCALE:GREGORIAN
PRODID:-//Diputació de Barcelona//DibaCMS//EN
BEGIN:VEVENT
UID:8533
DTSTAMP:20260419T210103
DTSTART:20200423T000000
DTEND:20200423T000000
SUMMARY:Sant Jordi 2020
LOCATION:
METHOD:PUBLISH
X-WR-CALNAME:vallgorguina@vallgorguina.cat
X-WR-TIMEZONE:Europe/Madrid
DESCRIPTION:
URI:https://www.vallgorguina.cat/actualitat/agenda/8533-sant-jordi-2020.html
CLASS:PUBLIC
END:VEVENT
END:VCALENDAR
